BEGIN:VCALENDAR
VERSION:2.0
PRODID:-//wp-events-plugin.com//7.2.3.1//EN
BEGIN:VEVENT
UID:28@kgbv.hainburg-lebt.de
DTSTART:20260913T100000Z
DTEND:20260913T160000Z
DTSTAMP:20250911T081034Z
URL:https://kgbv.hainburg-lebt.de/events/flohmarkt-im-gruenen-2
SUMMARY:Flohmarkt im Grünen
DESCRIPTION:
ATTACH;FMTTYPE=image/jpeg:https://kgbv.hainburg-lebt.de/wp-content/uploads
 /2023/06/Bild-21-scaled.jpg
CATEGORIES:Veranstaltung
LOCATION:Kleingartenbauverein Hainstadt\, https://maps.app.goo.gl/z5MAJ1k7r
 L3meKd49\, Hainburg\, 63512\, Deutschland
X-APPLE-STRUCTURED-LOCATION;VALUE=URI;X-ADDRESS=https://maps.app.goo.gl/z5M
 AJ1k7rL3meKd49\, Hainburg\, 63512\, Deutschland;X-APPLE-RADIUS=100;X-TITLE
 =Kleingartenbauverein Hainstadt:geo:0,0
END:VEVENT
END:VCALENDAR