BEGIN:VCALENDAR
VERSION:2.0
PRODID:-//wp-events-plugin.com//7.2.3.1//EN
BEGIN:VEVENT
UID:29@kgbv.hainburg-lebt.de
DTSTART;VALUE=DATE:20260601
DTEND;VALUE=DATE:20260701
DTSTAMP:20250911T081142Z
URL:https://kgbv.hainburg-lebt.de/events/gartenbegehung-zur-praemierung-de
 r-besten-gaerten-2
SUMMARY:Gartenbegehung zur Prämierung der besten Gärten
DESCRIPTION:Die Gärten werden begutachtet und bewertet. Dem Vorstand muss 
 zu diesem Zeitraum der Zugang zu den Gärten gewährt werden. Hierbei kont
 rollieren wir auch notwendige Maßnahmen.&nbsp\;
CATEGORIES:Vorstandssitzung
END:VEVENT
END:VCALENDAR